BEGIN:VCALENDAR
VERSION:2.0
PRODID:-//Syracuse City Arts Council - ECPv6.15.20//NONSGML v1.0//EN
CALSCALE:GREGORIAN
METHOD:PUBLISH
X-WR-CALNAME:Syracuse City Arts Council
X-ORIGINAL-URL:https://www.syracuseutaharts.org
X-WR-CALDESC:Events for Syracuse City Arts Council
REFRESH-INTERVAL;VALUE=DURATION:PT1H
X-Robots-Tag:noindex
X-PUBLISHED-TTL:PT1H
BEGIN:VTIMEZONE
TZID:America/Denver
BEGIN:DAYLIGHT
TZOFFSETFROM:-0700
TZOFFSETTO:-0600
TZNAME:MDT
DTSTART:20240310T090000
END:DAYLIGHT
BEGIN:STANDARD
TZOFFSETFROM:-0600
TZOFFSETTO:-0700
TZNAME:MST
DTSTART:20241103T080000
END:STANDARD
BEGIN:DAYLIGHT
TZOFFSETFROM:-0700
TZOFFSETTO:-0600
TZNAME:MDT
DTSTART:20250309T090000
END:DAYLIGHT
BEGIN:STANDARD
TZOFFSETFROM:-0600
TZOFFSETTO:-0700
TZNAME:MST
DTSTART:20251102T080000
END:STANDARD
BEGIN:DAYLIGHT
TZOFFSETFROM:-0700
TZOFFSETTO:-0600
TZNAME:MDT
DTSTART:20260308T090000
END:DAYLIGHT
BEGIN:STANDARD
TZOFFSETFROM:-0600
TZOFFSETTO:-0700
TZNAME:MST
DTSTART:20261101T080000
END:STANDARD
END:VTIMEZONE
BEGIN:VEVENT
DTSTART;TZID=America/Denver:20250717T193000
DTEND;TZID=America/Denver:20250717T220000
DTSTAMP:20260423T220709
CREATED:20250620T184518Z
LAST-MODIFIED:20250620T234935Z
UID:7543-1752780600-1752789600@www.syracuseutaharts.org
SUMMARY:The Addams Family Performance
DESCRIPTION:
URL:https://www.syracuseutaharts.org/event/the-addams-family-performance/
LOCATION:Syracuse High School\, 665 S 2000 W\, SYRACUSE\, UT\, 84075\, United States
CATEGORIES:Theatre
ORGANIZER;CN="Syracuse City Arts Council":MAILTO:Libby@syracuseutahart.org
END:VEVENT
BEGIN:VEVENT
DTSTART;TZID=America/Denver:20250718T193000
DTEND;TZID=America/Denver:20250718T210000
DTSTAMP:20260423T220709
CREATED:20250620T234409Z
LAST-MODIFIED:20250620T234910Z
UID:7545-1752867000-1752872400@www.syracuseutaharts.org
SUMMARY:The Addams Family Performance
DESCRIPTION:
URL:https://www.syracuseutaharts.org/event/the-addams-family-performance-2/
LOCATION:Syracuse High School\, 665 S 2000 W\, SYRACUSE\, UT\, 84075\, United States
CATEGORIES:Theatre
ORGANIZER;CN="Syracuse City Arts Council":MAILTO:Libby@syracuseutahart.org
END:VEVENT
BEGIN:VEVENT
DTSTART;TZID=America/Denver:20250719T140000
DTEND;TZID=America/Denver:20250719T163000
DTSTAMP:20260423T220709
CREATED:20250620T234505Z
LAST-MODIFIED:20250620T234850Z
UID:7547-1752933600-1752942600@www.syracuseutaharts.org
SUMMARY:The Addams Family Matinee Performance
DESCRIPTION:
URL:https://www.syracuseutaharts.org/event/the-addams-family-matinee-performance/
LOCATION:Syracuse High School\, 665 S 2000 W\, SYRACUSE\, UT\, 84075\, United States
CATEGORIES:Theatre
ORGANIZER;CN="Syracuse City Arts Council":MAILTO:Libby@syracuseutahart.org
END:VEVENT
BEGIN:VEVENT
DTSTART;TZID=America/Denver:20250719T193000
DTEND;TZID=America/Denver:20250719T210000
DTSTAMP:20260423T220709
CREATED:20250620T234601Z
LAST-MODIFIED:20250620T234747Z
UID:7549-1752953400-1752958800@www.syracuseutaharts.org
SUMMARY:The Addams Family Performance
DESCRIPTION:
URL:https://www.syracuseutaharts.org/event/the-addams-family-performance-3/
LOCATION:Syracuse High School\, 665 S 2000 W\, SYRACUSE\, UT\, 84075\, United States
CATEGORIES:Theatre
ORGANIZER;CN="Syracuse City Arts Council":MAILTO:Libby@syracuseutahart.org
END:VEVENT
BEGIN:VEVENT
DTSTART;TZID=America/Denver:20250721T193000
DTEND;TZID=America/Denver:20250721T210000
DTSTAMP:20260423T220709
CREATED:20250620T234731Z
LAST-MODIFIED:20250620T234731Z
UID:7551-1753126200-1753131600@www.syracuseutaharts.org
SUMMARY:The Addams Family Performance
DESCRIPTION:
URL:https://www.syracuseutaharts.org/event/the-addams-family-performance-4/
LOCATION:Syracuse High School\, 665 S 2000 W\, SYRACUSE\, UT\, 84075\, United States
CATEGORIES:Theatre
ORGANIZER;CN="Syracuse City Arts Council":MAILTO:Libby@syracuseutahart.org
END:VEVENT
END:VCALENDAR