BEGIN:VCALENDAR
VERSION:2.0
PRODID:-//Syracuse City Arts Council - ECPv6.15.20//NONSGML v1.0//EN
CALSCALE:GREGORIAN
METHOD:PUBLISH
X-ORIGINAL-URL:https://www.syracuseutaharts.org
X-WR-CALDESC:Events for Syracuse City Arts Council
REFRESH-INTERVAL;VALUE=DURATION:PT1H
X-Robots-Tag:noindex
X-PUBLISHED-TTL:PT1H
BEGIN:VTIMEZONE
TZID:America/Denver
BEGIN:DAYLIGHT
TZOFFSETFROM:-0700
TZOFFSETTO:-0600
TZNAME:MDT
DTSTART:20230312T090000
END:DAYLIGHT
BEGIN:STANDARD
TZOFFSETFROM:-0600
TZOFFSETTO:-0700
TZNAME:MST
DTSTART:20231105T080000
END:STANDARD
BEGIN:DAYLIGHT
TZOFFSETFROM:-0700
TZOFFSETTO:-0600
TZNAME:MDT
DTSTART:20240310T090000
END:DAYLIGHT
BEGIN:STANDARD
TZOFFSETFROM:-0600
TZOFFSETTO:-0700
TZNAME:MST
DTSTART:20241103T080000
END:STANDARD
BEGIN:DAYLIGHT
TZOFFSETFROM:-0700
TZOFFSETTO:-0600
TZNAME:MDT
DTSTART:20250309T090000
END:DAYLIGHT
BEGIN:STANDARD
TZOFFSETFROM:-0600
TZOFFSETTO:-0700
TZNAME:MST
DTSTART:20251102T080000
END:STANDARD
END:VTIMEZONE
BEGIN:VEVENT
DTSTART;TZID=America/Denver:20240410T190000
DTEND;TZID=America/Denver:20240410T215900
DTSTAMP:20260424T205227
CREATED:20240308T020804Z
LAST-MODIFIED:20240313T201455Z
UID:6697-1712775600-1712786340@www.syracuseutaharts.org
SUMMARY:Newsies Auditions
DESCRIPTION:Sign Up for Audition Slot\n\n \n\nhttps://www.signupgenius.com/go/20F094FAEAE2AA4FA7-48297493-newsies\n\n \n\nAudition Form\n\n \n\nhttps://docs.google.com/forms/d/e/1FAIpQLSd0PYXVY3p4h18Usns1Q-bPSiJygTgmMlEQlHxFDgEKI2Uuig/viewform?usp=sf_link
URL:https://www.syracuseutaharts.org/event/newsies-auditions/
LOCATION:Syracuse Community Center\, 1912 W 1900 S\, Syracuse\, UT\, 84075\, United States
CATEGORIES:Theatre
END:VEVENT
BEGIN:VEVENT
DTSTART;TZID=America/Denver:20240411T190000
DTEND;TZID=America/Denver:20240411T215900
DTSTAMP:20260424T205227
CREATED:20240308T020903Z
LAST-MODIFIED:20240313T201432Z
UID:6699-1712862000-1712872740@www.syracuseutaharts.org
SUMMARY:Newsies Auditions
DESCRIPTION:Sign Up for Audition Slot\n\n \n\nhttps://www.signupgenius.com/go/20F094FAEAE2AA4FA7-48297493-newsies\n\n \n\nAudition Form\n\n \n\nhttps://docs.google.com/forms/d/e/1FAIpQLSd0PYXVY3p4h18Usns1Q-bPSiJygTgmMlEQlHxFDgEKI2Uuig/viewform?usp=sf_link
URL:https://www.syracuseutaharts.org/event/newsies-auditions-2/
LOCATION:Syracuse Community Center\, 1912 W 1900 S\, Syracuse\, UT\, 84075\, United States
CATEGORIES:Theatre
END:VEVENT
BEGIN:VEVENT
DTSTART;TZID=America/Denver:20240413T090000
DTEND;TZID=America/Denver:20240413T140000
DTSTAMP:20260424T205227
CREATED:20240308T021021Z
LAST-MODIFIED:20240308T021021Z
UID:6701-1712998800-1713016800@www.syracuseutaharts.org
SUMMARY:Newsies Callbacks (by invitation)
DESCRIPTION:
URL:https://www.syracuseutaharts.org/event/newsies-callbacks-by-invitation/
LOCATION:Syracuse Community Center\, 1912 W 1900 S\, Syracuse\, UT\, 84075\, United States
CATEGORIES:Theatre
END:VEVENT
END:VCALENDAR