BEGIN:VCALENDAR
VERSION:2.0
PRODID:-//Syracuse City Arts Council - ECPv6.15.20//NONSGML v1.0//EN
CALSCALE:GREGORIAN
METHOD:PUBLISH
X-ORIGINAL-URL:https://www.syracuseutaharts.org
X-WR-CALDESC:Events for Syracuse City Arts Council
REFRESH-INTERVAL;VALUE=DURATION:PT1H
X-Robots-Tag:noindex
X-PUBLISHED-TTL:PT1H
BEGIN:VTIMEZONE
TZID:America/Denver
BEGIN:DAYLIGHT
TZOFFSETFROM:-0700
TZOFFSETTO:-0600
TZNAME:MDT
DTSTART:20180311T090000
END:DAYLIGHT
BEGIN:STANDARD
TZOFFSETFROM:-0600
TZOFFSETTO:-0700
TZNAME:MST
DTSTART:20181104T080000
END:STANDARD
BEGIN:DAYLIGHT
TZOFFSETFROM:-0700
TZOFFSETTO:-0600
TZNAME:MDT
DTSTART:20190310T090000
END:DAYLIGHT
BEGIN:STANDARD
TZOFFSETFROM:-0600
TZOFFSETTO:-0700
TZNAME:MST
DTSTART:20191103T080000
END:STANDARD
BEGIN:DAYLIGHT
TZOFFSETFROM:-0700
TZOFFSETTO:-0600
TZNAME:MDT
DTSTART:20200308T090000
END:DAYLIGHT
BEGIN:STANDARD
TZOFFSETFROM:-0600
TZOFFSETTO:-0700
TZNAME:MST
DTSTART:20201101T080000
END:STANDARD
BEGIN:DAYLIGHT
TZOFFSETFROM:-0700
TZOFFSETTO:-0600
TZNAME:MDT
DTSTART:20210314T090000
END:DAYLIGHT
BEGIN:STANDARD
TZOFFSETFROM:-0600
TZOFFSETTO:-0700
TZNAME:MST
DTSTART:20211107T080000
END:STANDARD
BEGIN:DAYLIGHT
TZOFFSETFROM:-0700
TZOFFSETTO:-0600
TZNAME:MDT
DTSTART:20220313T090000
END:DAYLIGHT
BEGIN:STANDARD
TZOFFSETFROM:-0600
TZOFFSETTO:-0700
TZNAME:MST
DTSTART:20221106T080000
END:STANDARD
BEGIN:DAYLIGHT
TZOFFSETFROM:-0700
TZOFFSETTO:-0600
TZNAME:MDT
DTSTART:20230312T090000
END:DAYLIGHT
BEGIN:STANDARD
TZOFFSETFROM:-0600
TZOFFSETTO:-0700
TZNAME:MST
DTSTART:20231105T080000
END:STANDARD
BEGIN:DAYLIGHT
TZOFFSETFROM:-0700
TZOFFSETTO:-0600
TZNAME:MDT
DTSTART:20240310T090000
END:DAYLIGHT
BEGIN:STANDARD
TZOFFSETFROM:-0600
TZOFFSETTO:-0700
TZNAME:MST
DTSTART:20241103T080000
END:STANDARD
BEGIN:DAYLIGHT
TZOFFSETFROM:-0700
TZOFFSETTO:-0600
TZNAME:MDT
DTSTART:20250309T090000
END:DAYLIGHT
BEGIN:STANDARD
TZOFFSETFROM:-0600
TZOFFSETTO:-0700
TZNAME:MST
DTSTART:20251102T080000
END:STANDARD
END:VTIMEZONE
BEGIN:VEVENT
DTSTART;TZID=America/Denver:20240520T190000
DTEND;TZID=America/Denver:20240520T210000
DTSTAMP:20260423T105507
CREATED:20240308T021529Z
LAST-MODIFIED:20240313T200609Z
UID:6703-1716231600-1716238800@www.syracuseutaharts.org
SUMMARY:Guest Artist Concert Series
DESCRIPTION:Emmy-award winning artist\, Kurt Bestor is coming to perform with the Syracuse Symphony Orchestra! \nTickets are $25 for floor seating and $20 for stadium seating. Get your tickets at https://www.buyyourtix.com/tickets?c=14&e=24.
URL:https://www.syracuseutaharts.org/event/guest-artist-concert-series/
LOCATION:Syracuse High School\, 665 S 2000 W\, SYRACUSE\, UT\, 84075\, United States
CATEGORIES:Orchestra
END:VEVENT
BEGIN:VEVENT
DTSTART;TZID=America/Denver:20240311T193000
DTEND;TZID=America/Denver:20240311T210000
DTSTAMP:20260423T105507
CREATED:20240307T215705Z
LAST-MODIFIED:20240308T021340Z
UID:6694-1710185400-1710190800@www.syracuseutaharts.org
SUMMARY:Syracuse Symphony Orchestra Concert - Tchaikovsky's Symphony No. 2
DESCRIPTION:Come join for at the Syracuse Symphony Orchestra’s concert “Tchaikovsky’s Symphony No. 2” on March 11 at 7:30pm. There is a suggested donation of $2.
URL:https://www.syracuseutaharts.org/event/syracuse-symphony-orchestra-concert-tchaikovskys-symphony-no-2/
LOCATION:Syracuse High School\, 665 S 2000 W\, SYRACUSE\, UT\, 84075\, United States
CATEGORIES:Orchestra
ORGANIZER;CN="Syracuse City Arts Council":MAILTO:Libby@syracuseutahart.org
END:VEVENT
BEGIN:VEVENT
DTSTART;TZID=America/Denver:20210510T190000
DTEND;TZID=America/Denver:20210510T200000
DTSTAMP:20260423T105507
CREATED:20210304T050831Z
LAST-MODIFIED:20210304T050831Z
UID:5910-1620673200-1620676800@www.syracuseutaharts.org
SUMMARY:Orchestra Concert
DESCRIPTION:
URL:https://www.syracuseutaharts.org/event/orchestra-concert/
LOCATION:Syracuse High School\, 665 S 2000 W\, SYRACUSE\, UT\, 84075\, United States
CATEGORIES:Orchestra
END:VEVENT
BEGIN:VEVENT
DTSTART;TZID=America/Denver:20200224T190000
DTEND;TZID=America/Denver:20200224T200000
DTSTAMP:20260423T105507
CREATED:20191201T040635Z
LAST-MODIFIED:20191201T040635Z
UID:4403-1582570800-1582574400@www.syracuseutaharts.org
SUMMARY:Give My Regards to Broadway ~ Orchestra Concert
DESCRIPTION:
URL:https://www.syracuseutaharts.org/event/give-my-regards-to-broadway-orchestra-concert/
LOCATION:Syracuse High School\, 665 S 2000 W\, SYRACUSE\, UT\, 84075\, United States
CATEGORIES:Orchestra
END:VEVENT
BEGIN:VEVENT
DTSTART;TZID=America/Denver:20191202T190000
DTEND;TZID=America/Denver:20191202T200000
DTSTAMP:20260423T105507
CREATED:20191201T030054Z
LAST-MODIFIED:20191201T030054Z
UID:4380-1575313200-1575316800@www.syracuseutaharts.org
SUMMARY:A Holly Jolly Christmas Concert
DESCRIPTION:
URL:https://www.syracuseutaharts.org/event/a-holly-jolly-christmas-concert/
LOCATION:Syracuse High School\, 665 S 2000 W\, SYRACUSE\, UT\, 84075\, United States
CATEGORIES:Choir,Jazz Band,Orchestra
END:VEVENT
END:VCALENDAR