BEGIN:VCALENDAR
VERSION:2.0
PRODID:-//Syracuse City Arts Council - ECPv6.15.20//NONSGML v1.0//EN
CALSCALE:GREGORIAN
METHOD:PUBLISH
X-ORIGINAL-URL:https://www.syracuseutaharts.org
X-WR-CALDESC:Events for Syracuse City Arts Council
REFRESH-INTERVAL;VALUE=DURATION:PT1H
X-Robots-Tag:noindex
X-PUBLISHED-TTL:PT1H
BEGIN:VTIMEZONE
TZID:America/Denver
BEGIN:DAYLIGHT
TZOFFSETFROM:-0700
TZOFFSETTO:-0600
TZNAME:MDT
DTSTART:20230312T090000
END:DAYLIGHT
BEGIN:STANDARD
TZOFFSETFROM:-0600
TZOFFSETTO:-0700
TZNAME:MST
DTSTART:20231105T080000
END:STANDARD
BEGIN:DAYLIGHT
TZOFFSETFROM:-0700
TZOFFSETTO:-0600
TZNAME:MDT
DTSTART:20240310T090000
END:DAYLIGHT
BEGIN:STANDARD
TZOFFSETFROM:-0600
TZOFFSETTO:-0700
TZNAME:MST
DTSTART:20241103T080000
END:STANDARD
BEGIN:DAYLIGHT
TZOFFSETFROM:-0700
TZOFFSETTO:-0600
TZNAME:MDT
DTSTART:20250309T090000
END:DAYLIGHT
BEGIN:STANDARD
TZOFFSETFROM:-0600
TZOFFSETTO:-0700
TZNAME:MST
DTSTART:20251102T080000
END:STANDARD
END:VTIMEZONE
BEGIN:VEVENT
DTSTART;TZID=America/Denver:20240520T190000
DTEND;TZID=America/Denver:20240520T210000
DTSTAMP:20260424T211756
CREATED:20240308T021529Z
LAST-MODIFIED:20240313T200609Z
UID:6703-1716231600-1716238800@www.syracuseutaharts.org
SUMMARY:Guest Artist Concert Series
DESCRIPTION:Emmy-award winning artist\, Kurt Bestor is coming to perform with the Syracuse Symphony Orchestra! \nTickets are $25 for floor seating and $20 for stadium seating. Get your tickets at https://www.buyyourtix.com/tickets?c=14&e=24.
URL:https://www.syracuseutaharts.org/event/guest-artist-concert-series/
LOCATION:Syracuse High School\, 665 S 2000 W\, SYRACUSE\, UT\, 84075\, United States
CATEGORIES:Orchestra
END:VEVENT
END:VCALENDAR