BEGIN:VCALENDAR
VERSION:2.0
PRODID:-//Syracuse City Arts Council - ECPv6.15.20//NONSGML v1.0//EN
CALSCALE:GREGORIAN
METHOD:PUBLISH
X-WR-CALNAME:Syracuse City Arts Council
X-ORIGINAL-URL:https://www.syracuseutaharts.org
X-WR-CALDESC:Events for Syracuse City Arts Council
REFRESH-INTERVAL;VALUE=DURATION:PT1H
X-Robots-Tag:noindex
X-PUBLISHED-TTL:PT1H
BEGIN:VTIMEZONE
TZID:America/Denver
BEGIN:DAYLIGHT
TZOFFSETFROM:-0700
TZOFFSETTO:-0600
TZNAME:MDT
DTSTART:20190310T090000
END:DAYLIGHT
BEGIN:STANDARD
TZOFFSETFROM:-0600
TZOFFSETTO:-0700
TZNAME:MST
DTSTART:20191103T080000
END:STANDARD
BEGIN:DAYLIGHT
TZOFFSETFROM:-0700
TZOFFSETTO:-0600
TZNAME:MDT
DTSTART:20200308T090000
END:DAYLIGHT
BEGIN:STANDARD
TZOFFSETFROM:-0600
TZOFFSETTO:-0700
TZNAME:MST
DTSTART:20201101T080000
END:STANDARD
BEGIN:DAYLIGHT
TZOFFSETFROM:-0700
TZOFFSETTO:-0600
TZNAME:MDT
DTSTART:20210314T090000
END:DAYLIGHT
BEGIN:STANDARD
TZOFFSETFROM:-0600
TZOFFSETTO:-0700
TZNAME:MST
DTSTART:20211107T080000
END:STANDARD
BEGIN:DAYLIGHT
TZOFFSETFROM:-0700
TZOFFSETTO:-0600
TZNAME:MDT
DTSTART:20220313T090000
END:DAYLIGHT
BEGIN:STANDARD
TZOFFSETFROM:-0600
TZOFFSETTO:-0700
TZNAME:MST
DTSTART:20221106T080000
END:STANDARD
BEGIN:DAYLIGHT
TZOFFSETFROM:-0700
TZOFFSETTO:-0600
TZNAME:MDT
DTSTART:20230312T090000
END:DAYLIGHT
BEGIN:STANDARD
TZOFFSETFROM:-0600
TZOFFSETTO:-0700
TZNAME:MST
DTSTART:20231105T080000
END:STANDARD
BEGIN:DAYLIGHT
TZOFFSETFROM:-0700
TZOFFSETTO:-0600
TZNAME:MDT
DTSTART:20240310T090000
END:DAYLIGHT
BEGIN:STANDARD
TZOFFSETFROM:-0600
TZOFFSETTO:-0700
TZNAME:MST
DTSTART:20241103T080000
END:STANDARD
BEGIN:DAYLIGHT
TZOFFSETFROM:-0700
TZOFFSETTO:-0600
TZNAME:MDT
DTSTART:20250309T090000
END:DAYLIGHT
BEGIN:STANDARD
TZOFFSETFROM:-0600
TZOFFSETTO:-0700
TZNAME:MST
DTSTART:20251102T080000
END:STANDARD
BEGIN:DAYLIGHT
TZOFFSETFROM:-0700
TZOFFSETTO:-0600
TZNAME:MDT
DTSTART:20260308T090000
END:DAYLIGHT
BEGIN:STANDARD
TZOFFSETFROM:-0600
TZOFFSETTO:-0700
TZNAME:MST
DTSTART:20261101T080000
END:STANDARD
BEGIN:DAYLIGHT
TZOFFSETFROM:-0700
TZOFFSETTO:-0600
TZNAME:MDT
DTSTART:20270314T090000
END:DAYLIGHT
BEGIN:STANDARD
TZOFFSETFROM:-0600
TZOFFSETTO:-0700
TZNAME:MST
DTSTART:20271107T080000
END:STANDARD
END:VTIMEZONE
BEGIN:VEVENT
DTSTART;TZID=America/Denver:20260323T193000
DTEND;TZID=America/Denver:20260323T210000
DTSTAMP:20260423T085749
CREATED:20260205T172741Z
LAST-MODIFIED:20260208T015928Z
UID:7773-1774294200-1774299600@www.syracuseutaharts.org
SUMMARY:Guest Artist Concert Series: Jason Tonioli
DESCRIPTION:The Syracuse Symphony Orchestra’s Guest Artist Series is excited to welcome American pianist and composer Jason Tonioli for an unforgettable 2026 concert. This special performance will showcase world-premiere original works—an entire program composed exclusively by Jason Tonioli. \nhttps://www.buyyourtix.com/tickets?c=14&e=29&p=101
URL:https://www.syracuseutaharts.org/event/guest-artist-concert-series-jason-tonioli/
LOCATION:Syracuse High School\, 665 S 2000 W\, SYRACUSE\, UT\, 84075\, United States
CATEGORIES:Board,Orchestra
ORGANIZER;CN="Syracuse City Arts Council":MAILTO:Libby@syracuseutahart.org
END:VEVENT
BEGIN:VEVENT
DTSTART;TZID=America/Denver:20251102T190000
DTEND;TZID=America/Denver:20251102T203000
DTSTAMP:20260423T085749
CREATED:20251103T051614Z
LAST-MODIFIED:20251103T051614Z
UID:7710-1762110000-1762115400@www.syracuseutaharts.org
SUMMARY:Christmas Concert
DESCRIPTION:
URL:https://www.syracuseutaharts.org/event/christmas-concert-2/
LOCATION:Syracuse High School\, 665 S 2000 W\, SYRACUSE\, UT\, 84075\, United States
CATEGORIES:Board,Jazz Band,Orchestra
ORGANIZER;CN="Syracuse City Arts Council":MAILTO:Libby@syracuseutahart.org
END:VEVENT
BEGIN:VEVENT
DTSTART;TZID=America/Denver:20250628T110000
DTEND;TZID=America/Denver:20250628T200000
DTSTAMP:20260423T085749
CREATED:20250620T174810Z
LAST-MODIFIED:20250620T174810Z
UID:7535-1751108400-1751140800@www.syracuseutaharts.org
SUMMARY:Syracuse City Heritage Days Booth
DESCRIPTION:Come visit us at Founders Park to learn more about the Addams Family\, the Syracuse City Arts Council programs\, and win some fun prizes!
URL:https://www.syracuseutaharts.org/event/syracuse-city-heritage-days-booth-2/
LOCATION:Founders Park\, Syracuse\, UT\, 84075\, United States
CATEGORIES:Board,Theatre
END:VEVENT
BEGIN:VEVENT
DTSTART;TZID=America/Denver:20250627T170000
DTEND;TZID=America/Denver:20250627T200000
DTSTAMP:20260423T085749
CREATED:20250620T174616Z
LAST-MODIFIED:20250620T174700Z
UID:7530-1751043600-1751054400@www.syracuseutaharts.org
SUMMARY:Syracuse City Heritage Days Booth
DESCRIPTION:Come visit us at Founders Park to learn more about the Addams Family\, the Syracuse City Arts Council programs\, and win some fun prizes!
URL:https://www.syracuseutaharts.org/event/syracuse-city-heritage-days-booth/
LOCATION:Founders Park\, Syracuse\, UT\, 84075\, United States
CATEGORIES:Board,Theatre
END:VEVENT
BEGIN:VEVENT
DTSTART;TZID=America/Denver:20211103T200000
DTEND;TZID=America/Denver:20211103T220000
DTSTAMP:20260423T085749
CREATED:20210729T181640Z
LAST-MODIFIED:20210729T181640Z
UID:6176-1635969600-1635976800@www.syracuseutaharts.org
SUMMARY:SCAC Board Meeting
DESCRIPTION:
URL:https://www.syracuseutaharts.org/event/scac-board-meeting-8/
LOCATION:UT
CATEGORIES:Board
END:VEVENT
BEGIN:VEVENT
DTSTART;TZID=America/Denver:20211006T200000
DTEND;TZID=America/Denver:20211006T220000
DTSTAMP:20260423T085749
CREATED:20210729T181549Z
LAST-MODIFIED:20210729T181549Z
UID:6173-1633550400-1633557600@www.syracuseutaharts.org
SUMMARY:SCAC Board Meeting
DESCRIPTION:
URL:https://www.syracuseutaharts.org/event/scac-board-meeting-7/
LOCATION:Syracuse City Hall\, 1979 W 1900 S\, SYRACUSE\, UT\, 84075\, United States
CATEGORIES:Board
END:VEVENT
BEGIN:VEVENT
DTSTART;TZID=America/Denver:20210901T200000
DTEND;TZID=America/Denver:20210901T220000
DTSTAMP:20260423T085749
CREATED:20210729T181448Z
LAST-MODIFIED:20210729T181448Z
UID:6171-1630526400-1630533600@www.syracuseutaharts.org
SUMMARY:SCAC Board Meeting
DESCRIPTION:
URL:https://www.syracuseutaharts.org/event/scac-board-meeting-6/
LOCATION:Syracuse City Hall\, 1979 W 1900 S\, SYRACUSE\, UT\, 84075\, United States
CATEGORIES:Board
END:VEVENT
BEGIN:VEVENT
DTSTART;TZID=America/Denver:20210804T200000
DTEND;TZID=America/Denver:20210804T220000
DTSTAMP:20260423T085749
CREATED:20210729T181335Z
LAST-MODIFIED:20210729T181335Z
UID:6169-1628107200-1628114400@www.syracuseutaharts.org
SUMMARY:SCAC Board Meeting
DESCRIPTION:
URL:https://www.syracuseutaharts.org/event/scac-board-meeting-5/
LOCATION:Syracuse City Hall\, 1979 W 1900 S\, SYRACUSE\, UT\, 84075\, United States
CATEGORIES:Board
END:VEVENT
BEGIN:VEVENT
DTSTART;TZID=America/Denver:20210505T200000
DTEND;TZID=America/Denver:20210505T220000
DTSTAMP:20260423T085749
CREATED:20210310T022122Z
LAST-MODIFIED:20210501T142800Z
UID:5931-1620244800-1620252000@www.syracuseutaharts.org
SUMMARY:Arts Council Board Meeting
DESCRIPTION:Join Zoom Meeting: https://us02web.zoom.us/j/81367569528\nMeeting ID:  813 6756 9528      No Passcode
URL:https://www.syracuseutaharts.org/event/arts-council-board-meeting-2/
LOCATION:UT
CATEGORIES:Board
END:VEVENT
BEGIN:VEVENT
DTSTART;TZID=America/Denver:20210316T200000
DTEND;TZID=America/Denver:20210316T220000
DTSTAMP:20260423T085749
CREATED:20210304T050419Z
LAST-MODIFIED:20210312T161931Z
UID:5898-1615924800-1615932000@www.syracuseutaharts.org
SUMMARY:Arts Council Special Meeting
DESCRIPTION:Topic: Syracuse City Arts Council’s Zoom Meeting\nTime: Mar 16\, 2021 08:00 PM Mountain Time (US and Canada) \nJoin Zoom Meeting\nhttps://us02web.zoom.us/j/82471477170 \nMeeting ID: 824 7147 7170\nOne tap mobile\n+12532158782\,\,82471477170# US (Tacoma)\n+13462487799\,\,82471477170# US (Houston) \nDial by your location\n+1 253 215 8782 US (Tacoma)\n+1 346 248 7799 US (Houston)\n+1 669 900 6833 US (San Jose)\n+1 301 715 8592 US (Washington DC)\n+1 312 626 6799 US (Chicago)\n+1 929 205 6099 US (New York)\nMeeting ID: 824 7147 7170\nFind your local number: https://us02web.zoom.us/u/kdhKVnIhCA
URL:https://www.syracuseutaharts.org/event/arts-council-special-meeting/
LOCATION:UT
CATEGORIES:Board
END:VEVENT
BEGIN:VEVENT
DTSTART;TZID=America/Denver:20200108T200000
DTEND;TZID=America/Denver:20200108T220000
DTSTAMP:20260423T085749
CREATED:20191201T030304Z
LAST-MODIFIED:20191201T030304Z
UID:4382-1578513600-1578520800@www.syracuseutaharts.org
SUMMARY:Board Meeting
DESCRIPTION:
URL:https://www.syracuseutaharts.org/event/board-meeting/
LOCATION:Syracuse City Hall\, 1979 W 1900 S\, SYRACUSE\, UT\, 84075\, United States
CATEGORIES:Board
ORGANIZER;CN="":MAILTO:info@syracuseutaharts.org
END:VEVENT
END:VCALENDAR